BEGIN:VCALENDAR
VERSION:2.0
PRODID:-//Crossfire Premier Soccer - ECPv5.1.6//NONSGML v1.0//EN
CALSCALE:GREGORIAN
METHOD:PUBLISH
X-WR-CALNAME:Crossfire Premier Soccer
X-ORIGINAL-URL:https://www.crossfiresoccer.org
X-WR-CALDESC:Events for Crossfire Premier Soccer
BEGIN:VTIMEZONE
TZID:UTC
BEGIN:STANDARD
TZOFFSETFROM:+0000
TZOFFSETTO:+0000
TZNAME:UTC
DTSTART:20170101T000000
END:STANDARD
END:VTIMEZONE
BEGIN:VEVENT
DTSTART;VALUE=DATE:20170902
DTEND;VALUE=DATE:20170903
DTSTAMP:20260422T101217
CREATED:20170821T224006Z
LAST-MODIFIED:20170821T224006Z
UID:3642-1504310400-1504396799@www.crossfiresoccer.org
SUMMARY:Boys DA Home vs Santa Cruz Breakers
DESCRIPTION:03\, 01 & 99
URL:https://www.crossfiresoccer.org/calendar/boys-da-home-vs-santa-cruz-breakers/
CATEGORIES:Development Academy
END:VEVENT
END:VCALENDAR