BEGIN:VCALENDAR
VERSION:2.0
PRODID:-//Crossfire Premier Soccer - ECPv5.1.6//NONSGML v1.0//EN
CALSCALE:GREGORIAN
METHOD:PUBLISH
X-WR-CALNAME:Crossfire Premier Soccer
X-ORIGINAL-URL:https://www.crossfiresoccer.org
X-WR-CALDESC:Events for Crossfire Premier Soccer
BEGIN:VTIMEZONE
TZID:UTC
BEGIN:STANDARD
TZOFFSETFROM:+0000
TZOFFSETTO:+0000
TZNAME:UTC
DTSTART:20170101T000000
END:STANDARD
END:VTIMEZONE
BEGIN:VEVENT
DTSTART;VALUE=DATE:20170903
DTEND;VALUE=DATE:20170904
DTSTAMP:20260422T113154
CREATED:20170821T190933Z
LAST-MODIFIED:20170821T234243Z
UID:3622-1504396800-1504483199@www.crossfiresoccer.org
SUMMARY:Girls DA @ California Thorns
DESCRIPTION:04\, 03\, 01 & 99
URL:https://www.crossfiresoccer.org/calendar/girls-da-california-thorns/
CATEGORIES:Development Academy
END:VEVENT
END:VCALENDAR