BEGIN:VCALENDAR
VERSION:2.0
PRODID:-//Crossfire Premier Soccer - ECPv5.1.6//NONSGML v1.0//EN
CALSCALE:GREGORIAN
METHOD:PUBLISH
X-WR-CALNAME:Crossfire Premier Soccer
X-ORIGINAL-URL:https://www.crossfiresoccer.org
X-WR-CALDESC:Events for Crossfire Premier Soccer
BEGIN:VTIMEZONE
TZID:UTC
BEGIN:STANDARD
TZOFFSETFROM:+0000
TZOFFSETTO:+0000
TZNAME:UTC
DTSTART:20170101T000000
END:STANDARD
END:VTIMEZONE
BEGIN:VEVENT
DTSTART;VALUE=DATE:20170909
DTEND;VALUE=DATE:20170910
DTSTAMP:20260422T145237
CREATED:20170821T191426Z
LAST-MODIFIED:20170821T234142Z
UID:3624-1504915200-1505001599@www.crossfiresoccer.org
SUMMARY:Girls DA @ Portland Thorns
DESCRIPTION:04\, 03\, 01 & 99
URL:https://www.crossfiresoccer.org/calendar/girls-da-portland-thorns/
CATEGORIES:Development Academy
END:VEVENT
END:VCALENDAR